Package: OGRE Version: 1.8.0 Command: /Library/Frameworks/R.framework/Resources/bin/R CMD check --install=check:OGRE.install-out.txt --library=/Library/Frameworks/R.framework/Resources/library --no-vignettes --timings OGRE_1.8.0.tar.gz StartedAt: 2024-06-11 00:05:29 -0400 (Tue, 11 Jun 2024) EndedAt: 2024-06-11 00:18:02 -0400 (Tue, 11 Jun 2024) EllapsedTime: 753.4 seconds RetCode: 0 Status: OK CheckDir: OGRE.Rcheck Warnings: 0