Package: OGRE Version: 1.8.0 Command: /home/biocbuild/R/R-beta-2024-04-15_r86425/bin/R CMD INSTALL OGRE StartedAt: 2024-05-08 20:39:58 -0000 (Wed, 08 May 2024) EndedAt: 2024-05-08 20:41:07 -0000 (Wed, 08 May 2024) EllapsedTime: 69.0 seconds RetCode: 0 Status: OK