Package: OGRE Version: 1.8.0 Command: /Library/Frameworks/R.framework/Resources/bin/R CMD build --keep-empty-dirs --no-resave-data OGRE StartedAt: 2024-06-09 17:33:49 -0400 (Sun, 09 Jun 2024) EndedAt: 2024-06-09 17:35:49 -0400 (Sun, 09 Jun 2024) EllapsedTime: 120.7 seconds RetCode: 0 Status: OK PackageFile: OGRE_1.8.0.tar.gz PackageFileSize: 1.73 MiB