Package: OGRE Version: 1.8.0 Command: rm -rf OGRE.buildbin-libdir && mkdir OGRE.buildbin-libdir && E:\biocbuild\bbs-3.19-bioc\R\bin\R.exe CMD INSTALL --build --library=OGRE.buildbin-libdir OGRE_1.8.0.tar.gz StartedAt: 2024-10-17 08:16:51 -0400 (Thu, 17 Oct 2024) EndedAt: 2024-10-17 08:17:51 -0400 (Thu, 17 Oct 2024) EllapsedTime: 60.5 seconds RetCode: 0 Status: OK PackageFile: OGRE_1.8.0.zip PackageFileSize: 1.059 MiB