Package: OLINgui Version: 1.78.0 Command: /Library/Frameworks/R.framework/Resources/bin/R CMD build --keep-empty-dirs --no-resave-data OLINgui StartedAt: 2024-10-17 05:48:00 -0400 (Thu, 17 Oct 2024) EndedAt: 2024-10-17 05:48:15 -0400 (Thu, 17 Oct 2024) EllapsedTime: 15.7 seconds RetCode: 0 Status: OK PackageFile: OLINgui_1.78.0.tar.gz PackageFileSize: 374.3 KiB