Package: OLINgui Version: 1.78.0 Command: /Library/Frameworks/R.framework/Resources/bin/R CMD check --install=check:OLINgui.install-out.txt --library=/Library/Frameworks/R.framework/Resources/library --no-vignettes --timings OLINgui_1.78.0.tar.gz StartedAt: 2024-10-18 06:20:42 -0400 (Fri, 18 Oct 2024) EndedAt: 2024-10-18 06:21:31 -0400 (Fri, 18 Oct 2024) EllapsedTime: 49.5 seconds RetCode: 0 Status: OK CheckDir: OLINgui.Rcheck Warnings: 0