Package: OLINgui Version: 1.78.0 Command: /Library/Frameworks/R.framework/Resources/bin/R CMD INSTALL OLINgui StartedAt: 2024-10-16 15:48:13 -0400 (Wed, 16 Oct 2024) EndedAt: 2024-10-16 15:48:20 -0400 (Wed, 16 Oct 2024) EllapsedTime: 6.1 seconds RetCode: 0 Status: OK