Package: OLINgui Version: 1.78.0 Command: /home/biocbuild/bbs-3.19-bioc/R/bin/R CMD build --keep-empty-dirs --no-resave-data OLINgui StartedAt: 2024-10-16 19:51:05 -0400 (Wed, 16 Oct 2024) EndedAt: 2024-10-16 19:51:17 -0400 (Wed, 16 Oct 2024) EllapsedTime: 12.0 seconds RetCode: 0 Status: OK PackageFile: OLINgui_1.78.0.tar.gz PackageFileSize: 232.5 KiB