Package: OTUbase Version: 1.54.0 Maintainer: Daniel Beck MaintainerEmail: danlbek at gmail.com git_url: https://git.bioconductor.org/packages/OTUbase git_branch: RELEASE_3_19 git_last_commit: f27c631 git_last_commit_date: 2024-04-30 10:22:44 -0400 (Tue, 30 Apr 2024)