Package: OTUbase Version: 1.54.0 Command: /Library/Frameworks/R.framework/Resources/bin/R CMD build --keep-empty-dirs --no-resave-data OTUbase StartedAt: 2024-10-17 06:02:34 -0400 (Thu, 17 Oct 2024) EndedAt: 2024-10-17 06:03:35 -0400 (Thu, 17 Oct 2024) EllapsedTime: 60.9 seconds RetCode: 0 Status: OK PackageFile: OTUbase_1.54.0.tar.gz PackageFileSize: 179 KiB