Package: OTUbase Version: 1.54.0 Command: /Library/Frameworks/R.framework/Resources/bin/R CMD check --install=check:OTUbase.install-out.txt --library=/Library/Frameworks/R.framework/Resources/library --no-vignettes --timings OTUbase_1.54.0.tar.gz StartedAt: 2024-10-18 06:47:36 -0400 (Fri, 18 Oct 2024) EndedAt: 2024-10-18 06:51:49 -0400 (Fri, 18 Oct 2024) EllapsedTime: 252.9 seconds RetCode: 0 Status: OK CheckDir: OTUbase.Rcheck Warnings: 0