Package: OTUbase Version: 1.54.0 Command: rm -rf OTUbase.buildbin-libdir && mkdir OTUbase.buildbin-libdir && E:\biocbuild\bbs-3.19-bioc\R\bin\R.exe CMD INSTALL --build --library=OTUbase.buildbin-libdir OTUbase_1.54.0.tar.gz StartedAt: 2024-10-17 08:18:39 -0400 (Thu, 17 Oct 2024) EndedAt: 2024-10-17 08:19:27 -0400 (Thu, 17 Oct 2024) EllapsedTime: 47.9 seconds RetCode: 0 Status: OK PackageFile: OTUbase_1.54.0.zip PackageFileSize: 556.3 KiB