Package: OTUbase Version: 1.54.0 Command: E:\biocbuild\bbs-3.19-bioc\R\bin\R.exe CMD INSTALL OTUbase StartedAt: 2024-10-16 16:31:09 -0400 (Wed, 16 Oct 2024) EndedAt: 2024-10-16 16:31:55 -0400 (Wed, 16 Oct 2024) EllapsedTime: 45.7 seconds RetCode: 0 Status: OK