Package: OVESEG Version: 1.20.0 Command: rm -rf OVESEG.buildbin-libdir && mkdir OVESEG.buildbin-libdir && /Users/biocbuild/BBS/utils/build-universal.sh OVESEG_1.20.0.tar.gz /Library/Frameworks/R.framework/Resources/bin/R OVESEG.buildbin-libdir StartedAt: 2024-10-18 19:52:19 -0400 (Fri, 18 Oct 2024) EndedAt: 2024-10-18 19:52:45 -0400 (Fri, 18 Oct 2024) EllapsedTime: 25.1 seconds RetCode: 0 Status: OK PackageFile: OVESEG_1.20.0.tgz PackageFileSize: 874 KiB