Package: OVESEG Version: 1.20.0 Command: rm -rf OVESEG.buildbin-libdir && mkdir OVESEG.buildbin-libdir && F:\biocbuild\bbs-3.19-bioc\R\bin\R.exe CMD INSTALL --build --library=OVESEG.buildbin-libdir OVESEG_1.20.0.tar.gz StartedAt: 2024-06-27 08:38:20 -0400 (Thu, 27 Jun 2024) EndedAt: 2024-06-27 08:39:00 -0400 (Thu, 27 Jun 2024) EllapsedTime: 40.0 seconds RetCode: 0 Status: OK PackageFile: OVESEG_1.20.0.zip PackageFileSize: 1.131 MiB