Package: OmicCircos Version: 1.42.0 Command: rm -rf OmicCircos.buildbin-libdir && mkdir OmicCircos.buildbin-libdir && /Users/biocbuild/BBS/utils/build-universal.sh OmicCircos_1.42.0.tar.gz /Library/Frameworks/R.framework/Resources/bin/R OmicCircos.buildbin-libdir StartedAt: 2024-10-18 19:49:03 -0400 (Fri, 18 Oct 2024) EndedAt: 2024-10-18 19:49:21 -0400 (Fri, 18 Oct 2024) EllapsedTime: 18.3 seconds RetCode: 0 Status: OK PackageFile: OmicCircos_1.42.0.tgz PackageFileSize: 5.065 MiB