Package: OmicCircos Version: 1.42.0 Command: /Library/Frameworks/R.framework/Resources/bin/R CMD check --install=check:OmicCircos.install-out.txt --library=/Library/Frameworks/R.framework/Resources/library --no-vignettes --timings OmicCircos_1.42.0.tar.gz StartedAt: 2024-10-18 06:25:57 -0400 (Fri, 18 Oct 2024) EndedAt: 2024-10-18 06:27:31 -0400 (Fri, 18 Oct 2024) EllapsedTime: 94.0 seconds RetCode: 0 Status: WARNINGS CheckDir: OmicCircos.Rcheck Warnings: 1