Package: OmicCircos Version: 1.42.0 Command: /Library/Frameworks/R.framework/Resources/bin/R CMD build --keep-empty-dirs --no-resave-data OmicCircos StartedAt: 2024-10-16 21:42:24 -0400 (Wed, 16 Oct 2024) EndedAt: 2024-10-16 21:43:47 -0400 (Wed, 16 Oct 2024) EllapsedTime: 82.6 seconds RetCode: 0 Status: OK PackageFile: OmicCircos_1.42.0.tar.gz PackageFileSize: 4.959 MiB