Package: OmicCircos Version: 1.42.0 Command: chmod a+r OmicCircos -R && E:\biocbuild\bbs-3.19-bioc\R\bin\R.exe CMD build --keep-empty-dirs --no-resave-data OmicCircos StartedAt: 2024-10-16 20:46:22 -0400 (Wed, 16 Oct 2024) EndedAt: 2024-10-16 21:05:09 -0400 (Wed, 16 Oct 2024) EllapsedTime: 1127.5 seconds RetCode: 0 Status: OK PackageFile: OmicCircos_1.42.0.tar.gz PackageFileSize: 3.619 MiB