Package: OmicCircos Version: 1.42.0 Command: E:\biocbuild\bbs-3.19-bioc\R\bin\R.exe CMD INSTALL OmicCircos StartedAt: 2024-10-16 16:15:12 -0400 (Wed, 16 Oct 2024) EndedAt: 2024-10-16 16:15:36 -0400 (Wed, 16 Oct 2024) EllapsedTime: 23.6 seconds RetCode: 0 Status: OK