Package: Omixer Version: 1.14.0 Command: /Library/Frameworks/R.framework/Resources/bin/R CMD check --install=check:Omixer.install-out.txt --library=/Library/Frameworks/R.framework/Resources/library --no-vignettes --timings Omixer_1.14.0.tar.gz StartedAt: 2024-06-11 00:18:02 -0400 (Tue, 11 Jun 2024) EndedAt: 2024-06-11 00:19:18 -0400 (Tue, 11 Jun 2024) EllapsedTime: 75.7 seconds RetCode: 0 Status: OK CheckDir: Omixer.Rcheck Warnings: 0