Package: Omixer Version: 1.14.0 Command: /home/biocbuild/R/R-beta-2024-04-15_r86425/bin/R CMD build --keep-empty-dirs --no-resave-data Omixer StartedAt: 2024-05-09 02:12:55 -0000 (Thu, 09 May 2024) EndedAt: 2024-05-09 02:15:41 -0000 (Thu, 09 May 2024) EllapsedTime: 166.3 seconds RetCode: 0 Status: OK PackageFile: Omixer_1.14.0.tar.gz PackageFileSize: 1.284 MiB