Package: Omixer Version: 1.14.0 Command: /home/biocbuild/R/R-beta-2024-04-15_r86425/bin/R CMD INSTALL Omixer StartedAt: 2024-05-08 20:10:55 -0000 (Wed, 08 May 2024) EndedAt: 2024-05-08 20:11:02 -0000 (Wed, 08 May 2024) EllapsedTime: 6.0 seconds RetCode: 0 Status: OK