Package: Omixer Version: 1.14.0 Command: rm -rf Omixer.buildbin-libdir && mkdir Omixer.buildbin-libdir && /Users/biocbuild/BBS/utils/build-universal.sh Omixer_1.14.0.tar.gz /Library/Frameworks/R.framework/Resources/bin/R Omixer.buildbin-libdir StartedAt: 2024-10-17 16:46:10 -0400 (Thu, 17 Oct 2024) EndedAt: 2024-10-17 16:46:23 -0400 (Thu, 17 Oct 2024) EllapsedTime: 12.8 seconds RetCode: 0 Status: OK PackageFile: Omixer_1.14.0.tgz PackageFileSize: 1.056 MiB