Package: Omixer Version: 1.14.0 Command: /Library/Frameworks/R.framework/Resources/bin/R CMD build --keep-empty-dirs --no-resave-data Omixer StartedAt: 2024-10-16 21:43:19 -0400 (Wed, 16 Oct 2024) EndedAt: 2024-10-16 21:46:59 -0400 (Wed, 16 Oct 2024) EllapsedTime: 219.3 seconds RetCode: 0 Status: OK PackageFile: Omixer_1.14.0.tar.gz PackageFileSize: 1.407 MiB