Package: Omixer Version: 1.14.0 Command: rm -rf Omixer.buildbin-libdir && mkdir Omixer.buildbin-libdir && E:\biocbuild\bbs-3.19-bioc\R\bin\R.exe CMD INSTALL --build --library=Omixer.buildbin-libdir Omixer_1.14.0.tar.gz StartedAt: 2024-10-17 08:17:19 -0400 (Thu, 17 Oct 2024) EndedAt: 2024-10-17 08:17:29 -0400 (Thu, 17 Oct 2024) EllapsedTime: 9.3 seconds RetCode: 0 Status: OK PackageFile: Omixer_1.14.0.zip PackageFileSize: 950.1 KiB