Package: Omixer Version: 1.14.0 Command: E:\biocbuild\bbs-3.19-bioc\R\bin\R.exe CMD INSTALL Omixer StartedAt: 2024-10-16 16:09:44 -0400 (Wed, 16 Oct 2024) EndedAt: 2024-10-16 16:09:54 -0400 (Wed, 16 Oct 2024) EllapsedTime: 9.7 seconds RetCode: 0 Status: OK