Package: OncoScore Version: 1.32.0 Command: /Library/Frameworks/R.framework/Resources/bin/R CMD build --keep-empty-dirs --no-resave-data OncoScore StartedAt: 2024-10-16 21:44:10 -0400 (Wed, 16 Oct 2024) EndedAt: 2024-10-16 21:45:47 -0400 (Wed, 16 Oct 2024) EllapsedTime: 96.4 seconds RetCode: 0 Status: OK PackageFile: OncoScore_1.32.0.tar.gz PackageFileSize: 916.3 KiB