Package: PADOG Version: 1.46.0 Command: rm -rf PADOG.buildbin-libdir && mkdir PADOG.buildbin-libdir && /Users/biocbuild/BBS/utils/build-universal.sh PADOG_1.46.0.tar.gz /Library/Frameworks/R.framework/Resources/bin/R PADOG.buildbin-libdir StartedAt: 2024-06-10 00:31:16 -0400 (Mon, 10 Jun 2024) EndedAt: 2024-06-10 00:31:38 -0400 (Mon, 10 Jun 2024) EllapsedTime: 21.4 seconds RetCode: 0 Status: OK PackageFile: PADOG_1.46.0.tgz PackageFileSize: 398.4 KiB