Package: PADOG Version: 1.46.0 Command: rm -rf PADOG.buildbin-libdir && mkdir PADOG.buildbin-libdir && /Users/biocbuild/BBS/utils/build-universal.sh PADOG_1.46.0.tar.gz /Library/Frameworks/R.framework/Resources/bin/R PADOG.buildbin-libdir StartedAt: 2024-10-17 16:47:57 -0400 (Thu, 17 Oct 2024) EndedAt: 2024-10-17 16:48:37 -0400 (Thu, 17 Oct 2024) EllapsedTime: 39.4 seconds RetCode: 0 Status: OK PackageFile: PADOG_1.46.0.tgz PackageFileSize: 399.7 KiB