Package: PADOG Version: 1.46.0 Command: /Library/Frameworks/R.framework/Resources/bin/R CMD check --install=check:PADOG.install-out.txt --library=/Library/Frameworks/R.framework/Resources/library --no-vignettes --timings PADOG_1.46.0.tar.gz StartedAt: 2024-10-17 10:31:47 -0400 (Thu, 17 Oct 2024) EndedAt: 2024-10-17 10:40:33 -0400 (Thu, 17 Oct 2024) EllapsedTime: 526.1 seconds RetCode: 0 Status: OK CheckDir: PADOG.Rcheck Warnings: 0