Package: PADOG Version: 1.46.0 Command: /home/biocbuild/bbs-3.19-bioc/R/bin/R CMD build --keep-empty-dirs --no-resave-data PADOG StartedAt: 2024-10-16 20:00:55 -0400 (Wed, 16 Oct 2024) EndedAt: 2024-10-16 20:04:14 -0400 (Wed, 16 Oct 2024) EllapsedTime: 199.7 seconds RetCode: 0 Status: OK PackageFile: PADOG_1.46.0.tar.gz PackageFileSize: 234.6 KiB