Package: PADOG Version: 1.46.0 Command: rm -rf PADOG.buildbin-libdir && mkdir PADOG.buildbin-libdir && E:\biocbuild\bbs-3.19-bioc\R\bin\R.exe CMD INSTALL --build --library=PADOG.buildbin-libdir PADOG_1.46.0.tar.gz StartedAt: 2024-10-17 08:18:57 -0400 (Thu, 17 Oct 2024) EndedAt: 2024-10-17 08:19:18 -0400 (Thu, 17 Oct 2024) EllapsedTime: 21.2 seconds RetCode: 0 Status: OK PackageFile: PADOG_1.46.0.zip PackageFileSize: 272.3 KiB