Package: PADOG Version: 1.46.0 Command: chmod a+r PADOG -R && E:\biocbuild\bbs-3.19-bioc\R\bin\R.exe CMD build --keep-empty-dirs --no-resave-data PADOG StartedAt: 2024-10-16 20:54:13 -0400 (Wed, 16 Oct 2024) EndedAt: 2024-10-16 20:57:01 -0400 (Wed, 16 Oct 2024) EllapsedTime: 167.5 seconds RetCode: 0 Status: OK PackageFile: PADOG_1.46.0.tar.gz PackageFileSize: 237.8 KiB