Package: PAIRADISE Version: 1.20.0 Maintainer: Qiang Hu , Levon Demirdjian MaintainerEmail: levondem at ucla.edu git_url: https://git.bioconductor.org/packages/PAIRADISE git_branch: RELEASE_3_19 git_last_commit: 6367989 git_last_commit_date: 2024-04-30 11:11:53 -0400 (Tue, 30 Apr 2024)