Package: PAIRADISE Version: 1.20.0 Command: /Library/Frameworks/R.framework/Resources/bin/R CMD check --install=check:PAIRADISE.install-out.txt --library=/Library/Frameworks/R.framework/Resources/library --no-vignettes --timings PAIRADISE_1.20.0.tar.gz StartedAt: 2024-10-17 10:32:02 -0400 (Thu, 17 Oct 2024) EndedAt: 2024-10-17 10:40:11 -0400 (Thu, 17 Oct 2024) EllapsedTime: 488.6 seconds RetCode: 0 Status: OK CheckDir: PAIRADISE.Rcheck Warnings: 0