Package: PAIRADISE Version: 1.20.0 Command: /Library/Frameworks/R.framework/Resources/bin/R CMD INSTALL PAIRADISE StartedAt: 2024-10-16 15:27:14 -0400 (Wed, 16 Oct 2024) EndedAt: 2024-10-16 15:27:59 -0400 (Wed, 16 Oct 2024) EllapsedTime: 45.2 seconds RetCode: 0 Status: OK