Package: PAIRADISE Version: 1.20.0 Command: rm -rf PAIRADISE.buildbin-libdir && mkdir PAIRADISE.buildbin-libdir && E:\biocbuild\bbs-3.19-bioc\R\bin\R.exe CMD INSTALL --build --library=PAIRADISE.buildbin-libdir PAIRADISE_1.20.0.tar.gz StartedAt: 2024-10-17 08:19:01 -0400 (Thu, 17 Oct 2024) EndedAt: 2024-10-17 08:19:24 -0400 (Thu, 17 Oct 2024) EllapsedTime: 23.1 seconds RetCode: 0 Status: OK PackageFile: PAIRADISE_1.20.0.zip PackageFileSize: 384.3 KiB