Package: PAIRADISE Version: 1.20.0 Command: chmod a+r PAIRADISE -R && E:\biocbuild\bbs-3.19-bioc\R\bin\R.exe CMD build --keep-empty-dirs --no-resave-data PAIRADISE StartedAt: 2024-10-16 20:54:37 -0400 (Wed, 16 Oct 2024) EndedAt: 2024-10-16 20:55:24 -0400 (Wed, 16 Oct 2024) EllapsedTime: 47.1 seconds RetCode: 0 Status: OK PackageFile: PAIRADISE_1.20.0.tar.gz PackageFileSize: 320.8 KiB