Package: PANR Version: 1.50.0 Command: /home/biocbuild/R/R-beta-2024-04-15_r86425/bin/R CMD build --keep-empty-dirs --no-resave-data PANR StartedAt: 2024-05-09 02:23:32 -0000 (Thu, 09 May 2024) EndedAt: 2024-05-09 02:23:46 -0000 (Thu, 09 May 2024) EllapsedTime: 14.0 seconds RetCode: 0 Status: OK PackageFile: PANR_1.50.0.tar.gz PackageFileSize: 2.097 MiB