Package: PANR Version: 1.50.0 Command: rm -rf PANR.buildbin-libdir && mkdir PANR.buildbin-libdir && /Users/biocbuild/BBS/utils/build-universal.sh PANR_1.50.0.tar.gz /Library/Frameworks/R.framework/Resources/bin/R PANR.buildbin-libdir StartedAt: 2024-06-10 00:31:27 -0400 (Mon, 10 Jun 2024) EndedAt: 2024-06-10 00:31:38 -0400 (Mon, 10 Jun 2024) EllapsedTime: 11.1 seconds RetCode: 0 Status: OK PackageFile: PANR_1.50.0.tgz PackageFileSize: 2.132 MiB