Package: PANR Version: 1.50.0 Command: /Library/Frameworks/R.framework/Resources/bin/R CMD build --keep-empty-dirs --no-resave-data PANR StartedAt: 2024-06-09 17:39:00 -0400 (Sun, 09 Jun 2024) EndedAt: 2024-06-09 17:39:53 -0400 (Sun, 09 Jun 2024) EllapsedTime: 53.5 seconds RetCode: 0 Status: OK PackageFile: PANR_1.50.0.tar.gz PackageFileSize: 2.112 MiB