Package: PANR Version: 1.50.0 Command: /Library/Frameworks/R.framework/Resources/bin/R CMD check --install=check:PANR.install-out.txt --library=/Library/Frameworks/R.framework/Resources/library --no-vignettes --timings PANR_1.50.0.tar.gz StartedAt: 2024-06-09 22:06:04 -0400 (Sun, 09 Jun 2024) EndedAt: 2024-06-09 22:08:27 -0400 (Sun, 09 Jun 2024) EllapsedTime: 142.2 seconds RetCode: 0 Status: OK CheckDir: PANR.Rcheck Warnings: 0