Package: PANR Version: 1.50.0 Command: /home/biocbuild/bbs-3.19-bioc/R/bin/R CMD build --keep-empty-dirs --no-resave-data PANR StartedAt: 2024-10-16 20:02:59 -0400 (Wed, 16 Oct 2024) EndedAt: 2024-10-16 20:03:22 -0400 (Wed, 16 Oct 2024) EllapsedTime: 23.0 seconds RetCode: 0 Status: OK PackageFile: PANR_1.50.0.tar.gz PackageFileSize: 1.977 MiB