Package: PANR Version: 1.50.0 Command: /home/biocbuild/bbs-3.19-bioc/R/bin/R CMD check --install=check:PANR.install-out.txt --library=/home/biocbuild/bbs-3.19-bioc/R/site-library --timings PANR_1.50.0.tar.gz StartedAt: 2024-10-17 03:36:25 -0400 (Thu, 17 Oct 2024) EndedAt: 2024-10-17 03:37:11 -0400 (Thu, 17 Oct 2024) EllapsedTime: 46.2 seconds RetCode: 0 Status: OK CheckDir: PANR.Rcheck Warnings: 0