Package: PANR Version: 1.50.0 Command: rm -rf PANR.buildbin-libdir && mkdir PANR.buildbin-libdir && E:\biocbuild\bbs-3.19-bioc\R\bin\R.exe CMD INSTALL --build --library=PANR.buildbin-libdir PANR_1.50.0.tar.gz StartedAt: 2024-10-17 08:19:18 -0400 (Thu, 17 Oct 2024) EndedAt: 2024-10-17 08:19:41 -0400 (Thu, 17 Oct 2024) EllapsedTime: 22.5 seconds RetCode: 0 Status: OK PackageFile: PANR_1.50.0.zip PackageFileSize: 2.008 MiB