Package: PANR Version: 1.50.0 Command: E:\biocbuild\bbs-3.19-bioc\R\bin\R.exe CMD INSTALL PANR StartedAt: 2024-10-16 16:08:35 -0400 (Wed, 16 Oct 2024) EndedAt: 2024-10-16 16:08:51 -0400 (Wed, 16 Oct 2024) EllapsedTime: 16.1 seconds RetCode: 0 Status: OK