Package: PCAN Version: 1.32.0 Command: /Library/Frameworks/R.framework/Resources/bin/R CMD build --keep-empty-dirs --no-resave-data PCAN StartedAt: 2024-10-17 06:15:37 -0400 (Thu, 17 Oct 2024) EndedAt: 2024-10-17 06:16:57 -0400 (Thu, 17 Oct 2024) EllapsedTime: 79.7 seconds RetCode: 0 Status: OK PackageFile: PCAN_1.32.0.tar.gz PackageFileSize: 2.565 MiB