Package: PCAN Version: 1.32.0 Command: /Library/Frameworks/R.framework/Resources/bin/R CMD build --keep-empty-dirs --no-resave-data PCAN StartedAt: 2024-10-16 21:58:18 -0400 (Wed, 16 Oct 2024) EndedAt: 2024-10-16 22:00:59 -0400 (Wed, 16 Oct 2024) EllapsedTime: 161.0 seconds RetCode: 0 Status: OK PackageFile: PCAN_1.32.0.tar.gz PackageFileSize: 2.564 MiB