Package: PCAN Version: 1.32.0 Command: /Library/Frameworks/R.framework/Resources/bin/R CMD check --install=check:PCAN.install-out.txt --library=/Library/Frameworks/R.framework/Resources/library --no-vignettes --timings PCAN_1.32.0.tar.gz StartedAt: 2024-10-17 10:41:48 -0400 (Thu, 17 Oct 2024) EndedAt: 2024-10-17 10:49:55 -0400 (Thu, 17 Oct 2024) EllapsedTime: 486.8 seconds RetCode: 0 Status: OK CheckDir: PCAN.Rcheck Warnings: 0